BEGIN:VCALENDAR
VERSION:2.0
PRODID:-//The Sterling Butterfly: Handcrafted Jewelry &amp; Artisan Creations - ECPv6.15.20//NONSGML v1.0//EN
CALSCALE:GREGORIAN
METHOD:PUBLISH
X-WR-CALNAME:The Sterling Butterfly: Handcrafted Jewelry &amp; Artisan Creations
X-ORIGINAL-URL:https://thesterlingbutterfly.com
X-WR-CALDESC:Events for The Sterling Butterfly: Handcrafted Jewelry &amp; Artisan Creations
REFRESH-INTERVAL;VALUE=DURATION:PT1H
X-Robots-Tag:noindex
X-PUBLISHED-TTL:PT1H
BEGIN:VTIMEZONE
TZID:America/Indiana/Indianapolis
BEGIN:DAYLIGHT
TZOFFSETFROM:-0500
TZOFFSETTO:-0400
TZNAME:EDT
DTSTART:20240310T070000
END:DAYLIGHT
BEGIN:STANDARD
TZOFFSETFROM:-0400
TZOFFSETTO:-0500
TZNAME:EST
DTSTART:20241103T060000
END:STANDARD
BEGIN:DAYLIGHT
TZOFFSETFROM:-0500
TZOFFSETTO:-0400
TZNAME:EDT
DTSTART:20250309T070000
END:DAYLIGHT
BEGIN:STANDARD
TZOFFSETFROM:-0400
TZOFFSETTO:-0500
TZNAME:EST
DTSTART:20251102T060000
END:STANDARD
BEGIN:DAYLIGHT
TZOFFSETFROM:-0500
TZOFFSETTO:-0400
TZNAME:EDT
DTSTART:20260308T070000
END:DAYLIGHT
BEGIN:STANDARD
TZOFFSETFROM:-0400
TZOFFSETTO:-0500
TZNAME:EST
DTSTART:20261101T060000
END:STANDARD
END:VTIMEZONE
BEGIN:VEVENT
DTSTART;TZID=America/Indiana/Indianapolis:20250403T180000
DTEND;TZID=America/Indiana/Indianapolis:20250403T210000
DTSTAMP:20260424T124857
CREATED:20250306T004545Z
LAST-MODIFIED:20250319T224423Z
UID:24399-1743703200-1743714000@thesterlingbutterfly.com
SUMMARY:Forging and Forming Skills
DESCRIPTION:Our Forging and Forming Class is one of 4 classes that are pre requisites for more advanced classes.\n\nIn this class you will learn about the hammers and how to move metal. You will learn how to form and shape metal pieces to create your desired effect. You will leave with a bangle bracelet and  one ring.\n\nAll tools and materials will be provided.No experience necessary\nYou will need to bring:Notebook for your notesMagnification/Reading glasses for close up workPlease wear closed toe shoes and pants for safety\n\nClass date – April 3\, 2025Time: 6-9 pmClass size – 6Cost – $60
URL:https://thesterlingbutterfly.com/workshop-class/forging-and-forming-skills/
LOCATION:The Sterling Butterfly\, 96 E Morgan St\, Martinsville\, IN\, 46151\, United States
CATEGORIES:Beginner,Pre-requisite
ATTACH;FMTTYPE=image/png:https://thesterlingbutterfly.com/wp-content/uploads/2025/03/Soldering-skills-2.png
END:VEVENT
BEGIN:VEVENT
DTSTART;TZID=America/Indiana/Indianapolis:20250414T090000
DTEND;TZID=America/Indiana/Indianapolis:20250414T120000
DTSTAMP:20260424T124857
CREATED:20250306T011824Z
LAST-MODIFIED:20250307T165029Z
UID:24407-1744621200-1744632000@thesterlingbutterfly.com
SUMMARY:Basic Tool Skills
DESCRIPTION:Our Basic Tool Skill Class is the first of 4 classes that are pre requisites for more advanced classes.\n\nIn this class you will learn about the studio tools and safety\, how to use pliers\, hammers and anvils to texture\, form and assemble jewelry.\n\nAll tools and materials will be provided.\nNo experience necessary and this will complete all the pre-requisites that will be needed in future advanced classes.\nYou will need to bring:Notebook for your notesMagnification/Reading glasses for close up workPlease wear closed toe shoes and pants for safety\nClass date – April 14\, 2025Time: 9 am – 12 noonClass size – 6Cost – $60
URL:https://thesterlingbutterfly.com/workshop-class/basic-tool-skills-2/
LOCATION:The Sterling Butterfly\, 96 E Morgan St\, Martinsville\, IN\, 46151\, United States
CATEGORIES:Beginner,Pre-requisite
ATTACH;FMTTYPE=image/png:https://thesterlingbutterfly.com/wp-content/uploads/2025/03/Basic-Tool-Skills.png
END:VEVENT
BEGIN:VEVENT
DTSTART;TZID=America/Indiana/Indianapolis:20250417T090000
DTEND;TZID=America/Indiana/Indianapolis:20250417T120000
DTSTAMP:20260424T124857
CREATED:20250306T012615Z
LAST-MODIFIED:20250306T012615Z
UID:24411-1744880400-1744891200@thesterlingbutterfly.com
SUMMARY:Soldering Skills
DESCRIPTION:Our Soldering Skills Class is one of 4 classes that are pre requisites for more advanced classes.\nIn this class you will learn about the torch and safety\, best practices and different ways to solder and practice to get good at heat recognition. You will leave with a link bracelet.\nAll tools and materials will be provided.\nNo experience necessary\n\nYou will need to bring:Notebook for your notesMagnification/Reading glasses for close up workPlease wear closed toe shoes and pants for safety\nClass date – April 17\, 2025Time: 9 am-12 noonClass size – 6Cost – $60
URL:https://thesterlingbutterfly.com/workshop-class/soldering-skills/
LOCATION:The Sterling Butterfly\, 96 E Morgan St\, Martinsville\, IN\, 46151\, United States
CATEGORIES:Beginner,Pre-requisite
ATTACH;FMTTYPE=image/png:https://thesterlingbutterfly.com/wp-content/uploads/2025/03/Soldering-skills.png
END:VEVENT
END:VCALENDAR